BEGIN:VCALENDAR
VERSION:2.0
PRODID:-//Invest in Eastern France - ECPv6.15.18//NONSGML v1.0//EN
CALSCALE:GREGORIAN
METHOD:PUBLISH
X-WR-CALNAME:Invest in Eastern France
X-ORIGINAL-URL:https://international.grandestdeveloppement.fr/en/
X-WR-CALDESC:Events for Invest in Eastern France
REFRESH-INTERVAL;VALUE=DURATION:PT1H
X-Robots-Tag:noindex
X-PUBLISHED-TTL:PT1H
BEGIN:VTIMEZONE
TZID:Europe/Paris
BEGIN:DAYLIGHT
TZOFFSETFROM:+0100
TZOFFSETTO:+0200
TZNAME:CEST
DTSTART:20210328T010000
END:DAYLIGHT
BEGIN:STANDARD
TZOFFSETFROM:+0200
TZOFFSETTO:+0100
TZNAME:CET
DTSTART:20211031T010000
END:STANDARD
BEGIN:DAYLIGHT
TZOFFSETFROM:+0100
TZOFFSETTO:+0200
TZNAME:CEST
DTSTART:20220327T010000
END:DAYLIGHT
BEGIN:STANDARD
TZOFFSETFROM:+0200
TZOFFSETTO:+0100
TZNAME:CET
DTSTART:20221030T010000
END:STANDARD
BEGIN:DAYLIGHT
TZOFFSETFROM:+0100
TZOFFSETTO:+0200
TZNAME:CEST
DTSTART:20230326T010000
END:DAYLIGHT
BEGIN:STANDARD
TZOFFSETFROM:+0200
TZOFFSETTO:+0100
TZNAME:CET
DTSTART:20231029T010000
END:STANDARD
END:VTIMEZONE
BEGIN:VEVENT
DTSTART;VALUE=DATE:20220531
DTEND;VALUE=DATE:20220603
DTSTAMP:20260422T021748
CREATED:20220525T112531Z
LAST-MODIFIED:20220525T112531Z
UID:4741-1653955200-1654214399@international.grandestdeveloppement.fr
SUMMARY:SIL Barcelona
DESCRIPTION:Meet Invest Eastern France at SIL Barcelona\, the leading logistics\, transport\, intralogistics and value chain exhibition in Southern Europe and exchange with international players.
URL:https://international.grandestdeveloppement.fr/en/evenement/sil-barcelona/
LOCATION:Fira de Barcelona Montjuic Exhibition Center\, Avda. Reina Maria Cristina s/n\, Barcelona\, 08004\, Espagne
END:VEVENT
END:VCALENDAR