BEGIN:VCALENDAR
VERSION:2.0
PRODID:-//Invest in Eastern France - ECPv6.15.18//NONSGML v1.0//EN
CALSCALE:GREGORIAN
METHOD:PUBLISH
X-WR-CALNAME:Invest in Eastern France
X-ORIGINAL-URL:https://international.grandestdeveloppement.fr/en/
X-WR-CALDESC:Events for Invest in Eastern France
REFRESH-INTERVAL;VALUE=DURATION:PT1H
X-Robots-Tag:noindex
X-PUBLISHED-TTL:PT1H
BEGIN:VTIMEZONE
TZID:Europe/Paris
BEGIN:DAYLIGHT
TZOFFSETFROM:+0100
TZOFFSETTO:+0200
TZNAME:CEST
DTSTART:20250330T010000
END:DAYLIGHT
BEGIN:STANDARD
TZOFFSETFROM:+0200
TZOFFSETTO:+0100
TZNAME:CET
DTSTART:20251026T010000
END:STANDARD
BEGIN:DAYLIGHT
TZOFFSETFROM:+0100
TZOFFSETTO:+0200
TZNAME:CEST
DTSTART:20260329T010000
END:DAYLIGHT
BEGIN:STANDARD
TZOFFSETFROM:+0200
TZOFFSETTO:+0100
TZNAME:CET
DTSTART:20261025T010000
END:STANDARD
BEGIN:DAYLIGHT
TZOFFSETFROM:+0100
TZOFFSETTO:+0200
TZNAME:CEST
DTSTART:20270328T010000
END:DAYLIGHT
BEGIN:STANDARD
TZOFFSETFROM:+0200
TZOFFSETTO:+0100
TZNAME:CET
DTSTART:20271031T010000
END:STANDARD
END:VTIMEZONE
BEGIN:VEVENT
DTSTART;VALUE=DATE:20261124
DTEND;VALUE=DATE:20261127
DTSTAMP:20260422T184907
CREATED:20240325T140514Z
LAST-MODIFIED:20260306T145047Z
UID:13195-1795478400-1795737599@international.grandestdeveloppement.fr
SUMMARY:World Hemp Forum
DESCRIPTION:The 2nd edition of the World Hemp Forum will take place on 24 & 26 November 2026 in Troyes (France)\, the main and historical basin of the cultivation of hemp in Europe! \nThe 2026 edition promises to reach a new milestone. We are expecting more than 300 participants from around the world\, bringing together key stakeholders from across the hemp value chain for three days of learning\, discoveries\, meaningful discussions and valuable connections across the global hemp ecosystem. \nThe event will showcase the remarkable dynamism of the sector — from upstream agriculture to building\, textiles\, food\, cosmetics\, plastics and composites\, territorial transitions\, cooperation and organisational innovation — and will provide an ideal environment to foster new partnerships and accelerate the development of your projects. \nThe 2026 programme will feature: \n\nPanel discussions\nSite visits to explore the French hemp ecosystem\nThematic workshops\nA researchers’ forum showcasing innovative research\, featuring a new “Young Researchers’ Prize”\nBusiness meetings\nA showroom highlighting products and services from across the hemp value chain\nA photo exhibition on biodiversity and hemp\n\nWe look forward to welcoming you back and working together to build this leading international platform for exchange\, innovation and cooperation around hemp.
URL:https://international.grandestdeveloppement.fr/en/evenement/world-hemp-forum-les-rencontres-du-chanvre-industriel/
LOCATION:Centre de Congrès de l’Aube\, Troyes\, Troyes\, France
ATTACH;FMTTYPE=image/webp:https://international.grandestdeveloppement.fr/wp-content/uploads/2024/03/world-hemp-forum.webp
END:VEVENT
END:VCALENDAR